BEGIN:VCALENDAR
VERSION:2.0
PRODID:-//Tukios.com/
BEGIN:VEVENT
UID:90ea92b9-8a79-46d5-b667-847e3f7a566e@www.legacychapelsrgv.com
DTSTAMP:20260420T050137Z
DTSTART:20260421T220000Z
DTEND:20260422T020000Z
SUMMARY:Visitation
DESCRIPTION:
URL:https://www.legacychapelsrgv.com/obituaries/elva-martinez
LOCATION: 4610 S Jackson Rd  Edinburg TX 78539
GEO:26.2606809;-98.192377
END:VEVENT
END:VCALENDAR