BEGIN:VCALENDAR
VERSION:2.0
PRODID:-//Tukios.com/
BEGIN:VEVENT
UID:d9fbc84d-fb43-4123-ba94-00e04e1c92f6@www.legacychapelsrgv.com
DTSTAMP:20260420T050704Z
DTSTART:20260422T000000Z
DTEND:20260422T010000Z
SUMMARY:Prayer Service
DESCRIPTION:
URL:https://www.legacychapelsrgv.com/obituaries/elva-martinez
LOCATION: 4610 S Jackson Rd  Edinburg TX 78539
GEO:26.2606809;-98.192377
END:VEVENT
END:VCALENDAR