BEGIN:VCALENDAR
VERSION:2.0
PRODID:-//Tukios.com/
BEGIN:VEVENT
UID:990d3578-89e8-41d6-9c72-7ae08746cf53@www.legacychapelsrgv.com
DTSTAMP:20260420T050432Z
DTSTART:20260422T190000Z
DTEND:20260422T193000Z
SUMMARY:Chapel Service
DESCRIPTION:
URL:https://www.legacychapelsrgv.com/obituaries/elva-martinez
LOCATION: 4610 S Jackson Rd  Edinburg TX 78539
GEO:26.2606809;-98.192377
END:VEVENT
END:VCALENDAR