BEGIN:VCALENDAR
VERSION:2.0
PRODID:-//Tukios.com/
BEGIN:VEVENT
UID:8b82a931-6d00-4855-8c8f-78f0243371fb@www.legacychapelsrgv.com
DTSTAMP:20260420T050153Z
DTSTART:20260422T200000Z
DTEND:20260422T210000Z
SUMMARY:Interment
DESCRIPTION:
URL:https://www.legacychapelsrgv.com/obituaries/elva-martinez
LOCATION: 1801 Wichita Ave  McAllen TX 78503
GEO:26.1829848;-98.2417965
END:VEVENT
END:VCALENDAR