BEGIN:VCALENDAR
VERSION:2.0
PRODID:-//Tukios.com/
BEGIN:VEVENT
UID:e06d9ed7-949a-40b6-9819-4bc81a637277@www.legacychapelsrgv.com
DTSTAMP:20260423T190734Z
DTSTART:20260427T220000Z
DTEND:20260428T020000Z
SUMMARY:Visitation
DESCRIPTION:
URL:https://www.legacychapelsrgv.com/obituaries/hilda-sandoval
LOCATION: 4610 S Jackson Rd  Edinburg TX 78539
GEO:26.2606809;-98.192377
END:VEVENT
END:VCALENDAR