BEGIN:VCALENDAR
VERSION:2.0
PRODID:-//Tukios.com/
BEGIN:VEVENT
UID:ed1a164e-1c58-4588-b7d7-4dc2da2c8012@www.legacychapelsrgv.com
DTSTAMP:20260424T131016Z
DTSTART:20260428T000000Z
DTEND:20260428T010000Z
SUMMARY:Prayer Service
DESCRIPTION:
URL:https://www.legacychapelsrgv.com/obituaries/hilda-sandoval
LOCATION: 4610 S Jackson Rd  Edinburg TX 78539
GEO:26.2606809;-98.192377
END:VEVENT
END:VCALENDAR