BEGIN:VCALENDAR
VERSION:2.0
PRODID:-//Tukios.com/
BEGIN:VEVENT
UID:c93ed80d-310d-4a6b-b85d-ba8bd6d2aa25@www.legacychapelsrgv.com
DTSTAMP:20260423T190237Z
DTSTART:20260428T150000Z
DTEND:20260428T151500Z
SUMMARY:Chapel Service
DESCRIPTION:
URL:https://www.legacychapelsrgv.com/obituaries/hilda-sandoval
LOCATION: 4610 S Jackson Rd  Edinburg TX 78539
GEO:26.2606809;-98.192377
END:VEVENT
END:VCALENDAR