BEGIN:VCALENDAR
VERSION:2.0
PRODID:-//Tukios.com/
BEGIN:VEVENT
UID:1794dcea-6d6b-4ceb-a7e6-3dc0cc8150ff@www.legacychapelsrgv.com
DTSTAMP:20260424T131017Z
DTSTART:20260428T160000Z
DTEND:20260428T170000Z
SUMMARY:Interment
DESCRIPTION:
URL:https://www.legacychapelsrgv.com/obituaries/hilda-sandoval
LOCATION: 1801 Wichita Ave  McAllen TX 78503
GEO:26.1829848;-98.2417965
END:VEVENT
END:VCALENDAR