BEGIN:VCALENDAR
VERSION:2.0
PRODID:-//Tukios.com/
BEGIN:VEVENT
UID:6ee5bb31-b08e-4dcd-9e69-e3b0efad34b9@www.legacychapelsrgv.com
DTSTAMP:20260426T013555Z
DTSTART:20260429T000000Z
DTEND:20260429T010000Z
SUMMARY:Prayer Service
DESCRIPTION:
URL:https://www.legacychapelsrgv.com/obituaries/james-mitchell
LOCATION: 4610 S Jackson Rd  Edinburg TX 78539
GEO:26.2606809;-98.192377
END:VEVENT
END:VCALENDAR