BEGIN:VCALENDAR
VERSION:2.0
PRODID:-//Tukios.com/
BEGIN:VEVENT
UID:d7bf946d-bc38-40cd-b02c-87ff93c4f629@www.legacychapelsrgv.com
DTSTAMP:20260422T213958Z
DTSTART:20260422T220000Z
DTEND:20260423T020000Z
SUMMARY:Visitation
DESCRIPTION:
URL:https://www.legacychapelsrgv.com/obituaries/juan-regalado
LOCATION: 4610 S Jackson Rd  Edinburg TX 78539
GEO:26.2606809;-98.192377
END:VEVENT
END:VCALENDAR