BEGIN:VCALENDAR
VERSION:2.0
PRODID:-//Tukios.com/
BEGIN:VEVENT
UID:2e1fd719-414f-49e2-af67-52b75fd0dc01@www.legacychapelsrgv.com
DTSTAMP:20260422T213204Z
DTSTART:20260423T000000Z
DTEND:20260423T010000Z
SUMMARY:Prayer Service
DESCRIPTION:
URL:https://www.legacychapelsrgv.com/obituaries/juan-regalado
LOCATION: 4610 S Jackson Rd  Edinburg TX 78539
GEO:26.2606809;-98.192377
END:VEVENT
END:VCALENDAR