BEGIN:VCALENDAR
VERSION:2.0
PRODID:-//Tukios.com/
BEGIN:VEVENT
UID:1675c257-17c6-412a-b59a-fd7d74822b02@www.legacychapelsrgv.com
DTSTAMP:20260422T213330Z
DTSTART:20260423T150000Z
DTEND:20260423T153000Z
SUMMARY:Chapel Service
DESCRIPTION:
URL:https://www.legacychapelsrgv.com/obituaries/juan-regalado
LOCATION: 4610 S Jackson Rd  Edinburg TX 78539
GEO:26.2606809;-98.192377
END:VEVENT
END:VCALENDAR