BEGIN:VCALENDAR
VERSION:2.0
PRODID:-//Tukios.com/
BEGIN:VEVENT
UID:0dd85ac7-168b-4aca-9562-98762133726f@www.legacychapelsrgv.com
DTSTAMP:20260422T213444Z
DTSTART:20260423T160000Z
DTEND:20260423T170000Z
SUMMARY:Interment
DESCRIPTION:
URL:https://www.legacychapelsrgv.com/obituaries/juan-regalado
LOCATION: 6200 N Val Verde Rd  Donna TX 78537
GEO:26.2187414;-98.0793569
END:VEVENT
END:VCALENDAR