BEGIN:VCALENDAR
VERSION:2.0
PRODID:-//Tukios.com/
BEGIN:VEVENT
UID:5e5fe045-9ac9-4d2d-9937-2df6dd3cba9a@www.legacychapelsrgv.com
DTSTAMP:20260422T181736Z
DTSTART:20260425T220000Z
DTEND:20260426T020000Z
SUMMARY:Visitation
DESCRIPTION:
URL:https://www.legacychapelsrgv.com/obituaries/leopoldo-torres-reyes
LOCATION: 4610 S Jackson Rd  Edinburg TX 78539
GEO:26.2606809;-98.192377
END:VEVENT
END:VCALENDAR