BEGIN:VCALENDAR
VERSION:2.0
PRODID:-//Tukios.com/
BEGIN:VEVENT
UID:88657f2a-67e9-4f69-a121-5bca3d3055b7@www.legacychapelsrgv.com
DTSTAMP:20260422T182022Z
DTSTART:20260426T000000Z
DTEND:20260426T010000Z
SUMMARY:Prayer Service
DESCRIPTION:
URL:https://www.legacychapelsrgv.com/obituaries/leopoldo-torres-reyes
LOCATION: 4610 S Jackson Rd  Edinburg TX 78539
GEO:26.2606809;-98.192377
END:VEVENT
END:VCALENDAR